BEGIN:VCALENDAR
VERSION:2.0
PRODID:-//Deaf Sports Australia - ECPv5.4.0//NONSGML v1.0//EN
CALSCALE:GREGORIAN
METHOD:PUBLISH
X-WR-CALNAME:Deaf Sports Australia
X-ORIGINAL-URL:https://deafsports.org.au
X-WR-CALDESC:Events for Deaf Sports Australia
BEGIN:VTIMEZONE
TZID:Australia/Melbourne
BEGIN:STANDARD
TZOFFSETFROM:+1100
TZOFFSETTO:+1000
TZNAME:AEST
DTSTART:20180331T160000
END:STANDARD
BEGIN:DAYLIGHT
TZOFFSETFROM:+1000
TZOFFSETTO:+1100
TZNAME:AEDT
DTSTART:20181006T160000
END:DAYLIGHT
END:VTIMEZONE
BEGIN:VEVENT
DTSTART;VALUE=DATE:20180720
DTEND;VALUE=DATE:20180729
DTSTAMP:20210301T182813
CREATED:20180417T040453Z
LAST-MODIFIED:20180417T040453Z
UID:1123-1532044800-1532822399@deafsports.org.au
SUMMARY:12th World Deaf Golf Championships
DESCRIPTION:Related
URL:https://deafsports.org.au/event/12th-world-deaf-golf-championships/
LOCATION:Carton House Golf Club\, Carton Demesne\, Maynooth\, Co. Kildare\, Ireland
END:VEVENT
END:VCALENDAR