BEGIN:VCALENDAR
VERSION:2.0
PRODID:-//Deaf Sports Australia - ECPv5.4.0//NONSGML v1.0//EN
CALSCALE:GREGORIAN
METHOD:PUBLISH
X-WR-CALNAME:Deaf Sports Australia
X-ORIGINAL-URL:https://deafsports.org.au
X-WR-CALDESC:Events for Deaf Sports Australia
BEGIN:VTIMEZONE
TZID:Australia/Melbourne
BEGIN:STANDARD
TZOFFSETFROM:+1100
TZOFFSETTO:+1000
TZNAME:AEST
DTSTART:20200404T160000
END:STANDARD
BEGIN:DAYLIGHT
TZOFFSETFROM:+1000
TZOFFSETTO:+1100
TZNAME:AEDT
DTSTART:20201003T160000
END:DAYLIGHT
END:VTIMEZONE
BEGIN:VEVENT
DTSTART;VALUE=DATE:20201009
DTEND;VALUE=DATE:20201012
DTSTAMP:20210301T183339
CREATED:20200430T025418Z
LAST-MODIFIED:20200430T025600Z
UID:1831-1602201600-1602460799@deafsports.org.au
SUMMARY:National Deaf Touch Football Championship
DESCRIPTION:Deaf Touch Football Australia is hosting its next National Deaf Touch Football Championship in Melbourne this year\, from 9th – 11th October. They will announce further updates at end of May. \nAll spectators are invited to come watch and support State teams from QLD\, NSW\, ACT/South NSW and VIC (new!). \nWhere:\nNoel Clarke Field\nAughtie Drive\nAlbert Park 3206\nSouth Melbourne \nTime:\nTo be announce in August 2020. Keep an eye on this event for further details. \nInterpreters provided. More information about canteen and car-parking is currently being sought\, so watch this event for further updates. \n\nInterested in playing? Then contact your State Reps! 👍👍\nNSW Representative – Matthew Grech (matty0978@gmail.com)\nACT/ STH NSW Representative – Matt Shannon (mattshannon11@hotmail.com)\nQLD Representative – Emma Stephensen (stephensenemma@gmail.com)\nVictoria Representative – Jake Harwood (jake_harwood91@hotmail.com)\nAll other enquiries – touchfootball@deafsports.org.auFor eligibility information\, please go to this link:\nhttps://deafsports.org.au/pathways/athlete-eligibility/ \nWe look forward to a great weekend!
URL:https://deafsports.org.au/event/national-deaf-touch-football-championship/
LOCATION:Noel Clarke Field\, Aughtie Drive\, Albert Park\, South Melbourne VIC 3206\, Aughtie Drive\, Albert Park\, VIC\, 3206\, Australia
END:VEVENT
END:VCALENDAR