BEGIN:VCALENDAR
VERSION:2.0
PRODID:-//Deaf Sports Australia - ECPv5.4.0//NONSGML v1.0//EN
CALSCALE:GREGORIAN
METHOD:PUBLISH
X-WR-CALNAME:Deaf Sports Australia
X-ORIGINAL-URL:https://deafsports.org.au
X-WR-CALDESC:Events for Deaf Sports Australia
BEGIN:VTIMEZONE
TZID:Australia/Sydney
BEGIN:STANDARD
TZOFFSETFROM:+1100
TZOFFSETTO:+1000
TZNAME:AEST
DTSTART:20210403T160000
END:STANDARD
BEGIN:DAYLIGHT
TZOFFSETFROM:+1000
TZOFFSETTO:+1100
TZNAME:AEDT
DTSTART:20211002T160000
END:DAYLIGHT
END:VTIMEZONE
BEGIN:VEVENT
DTSTART;VALUE=DATE:20210417
DTEND;VALUE=DATE:20210424
DTSTAMP:20210301T182609
CREATED:20200430T030822Z
LAST-MODIFIED:20200430T073417Z
UID:1837-1618617600-1619222399@deafsports.org.au
SUMMARY:National Deaf Bowls Championships
DESCRIPTION:2021 National Deaf Bowls Championships will held in Orange City Bowling Club\, 17th to 23rd April 202. \nIf you are interested to getting involved at this National Championships\, please contact your State Bowls Secretary.
URL:https://deafsports.org.au/event/national-deaf-bowls-championships-2/
LOCATION:Orange City Bowling Club\, Warrendine Street\, Orange\, NSW\, 2800\, Australia
END:VEVENT
END:VCALENDAR